BEGIN:VCALENDAR
VERSION:2.0
PRODID:-//She ROCKS - ECPv6.15.20//NONSGML v1.0//EN
CALSCALE:GREGORIAN
METHOD:PUBLISH
X-ORIGINAL-URL:https://she-rocks.org
X-WR-CALDESC:Events for She ROCKS
REFRESH-INTERVAL;VALUE=DURATION:PT1H
X-Robots-Tag:noindex
X-PUBLISHED-TTL:PT1H
BEGIN:VTIMEZONE
TZID:America/New_York
BEGIN:DAYLIGHT
TZOFFSETFROM:-0500
TZOFFSETTO:-0400
TZNAME:EDT
DTSTART:20170312T070000
END:DAYLIGHT
BEGIN:STANDARD
TZOFFSETFROM:-0400
TZOFFSETTO:-0500
TZNAME:EST
DTSTART:20171105T060000
END:STANDARD
BEGIN:DAYLIGHT
TZOFFSETFROM:-0500
TZOFFSETTO:-0400
TZNAME:EDT
DTSTART:20180311T070000
END:DAYLIGHT
BEGIN:STANDARD
TZOFFSETFROM:-0400
TZOFFSETTO:-0500
TZNAME:EST
DTSTART:20181104T060000
END:STANDARD
BEGIN:DAYLIGHT
TZOFFSETFROM:-0500
TZOFFSETTO:-0400
TZNAME:EDT
DTSTART:20190310T070000
END:DAYLIGHT
BEGIN:STANDARD
TZOFFSETFROM:-0400
TZOFFSETTO:-0500
TZNAME:EST
DTSTART:20191103T060000
END:STANDARD
END:VTIMEZONE
BEGIN:VEVENT
DTSTART;TZID=America/New_York:20180202T143000
DTEND;TZID=America/New_York:20180203T163000
DTSTAMP:20260422T080809
CREATED:20161014T171835Z
LAST-MODIFIED:20181220T193843Z
UID:162-1517581800-1517675400@she-rocks.org
SUMMARY:2nd Annual Divine Divas Benefit Concert
DESCRIPTION:Two Nights Only – 2nd Annual Divine Divas Benefit Concert\n\n\nOn February 2 and 3\, 2018\, The Thalian Association Community Theatre (TACT) held a special two-night concert featuring Divine Divas\, a group of well-known actresses from local community theatre. The evenings included a silent auction and raised nearly $7\,000. Thank you\, Divine Divas\, TACT and all who came and supported She ROCKS.\n\n\nThe concert featured twelve well known actresses from the local theatre community and a performer from TACT Youth Theatre program performing songs identified with real life Divas of stage and screen. The show was directed by Mike Thompson with music direction by Denice Hopper. \n\nA silent auction was offered at each performance with fabulous items including\, restaurant and hotel packages\, jewelry\, yacht parties\, health & beauty packages and 2D and 3D artwork. Join us next year! \n\n 
URL:https://she-rocks.org/event/divine-divas-2-benefit-concert-silent-auction/
LOCATION:2nd Street Stage in the Hannah Block\, 120 S 2nd Street\, Wilmington\, NC\, 28401\, United States
CATEGORIES:Fundraiser
ATTACH;FMTTYPE=image/jpeg:https://she-rocks.org/wp-content/uploads/2016/10/eblast-divas-2018.jpg
END:VEVENT
END:VCALENDAR