BEGIN:VCALENDAR
VERSION:2.0
PRODID:-//She ROCKS - ECPv6.15.20//NONSGML v1.0//EN
CALSCALE:GREGORIAN
METHOD:PUBLISH
X-WR-CALNAME:She ROCKS
X-ORIGINAL-URL:https://she-rocks.org
X-WR-CALDESC:Events for She ROCKS
REFRESH-INTERVAL;VALUE=DURATION:PT1H
X-Robots-Tag:noindex
X-PUBLISHED-TTL:PT1H
BEGIN:VTIMEZONE
TZID:America/New_York
BEGIN:DAYLIGHT
TZOFFSETFROM:-0500
TZOFFSETTO:-0400
TZNAME:EDT
DTSTART:20170312T070000
END:DAYLIGHT
BEGIN:STANDARD
TZOFFSETFROM:-0400
TZOFFSETTO:-0500
TZNAME:EST
DTSTART:20171105T060000
END:STANDARD
BEGIN:DAYLIGHT
TZOFFSETFROM:-0500
TZOFFSETTO:-0400
TZNAME:EDT
DTSTART:20180311T070000
END:DAYLIGHT
BEGIN:STANDARD
TZOFFSETFROM:-0400
TZOFFSETTO:-0500
TZNAME:EST
DTSTART:20181104T060000
END:STANDARD
BEGIN:DAYLIGHT
TZOFFSETFROM:-0500
TZOFFSETTO:-0400
TZNAME:EDT
DTSTART:20190310T070000
END:DAYLIGHT
BEGIN:STANDARD
TZOFFSETFROM:-0400
TZOFFSETTO:-0500
TZNAME:EST
DTSTART:20191103T060000
END:STANDARD
END:VTIMEZONE
BEGIN:VEVENT
DTSTART;TZID=America/New_York:20180928T140000
DTEND;TZID=America/New_York:20180928T190000
DTSTAMP:20260420T220508
CREATED:20161014T171819Z
LAST-MODIFIED:20181206T035610Z
UID:159-1538143200-1538161200@she-rocks.org
SUMMARY:Summerfield Farms Dinner
DESCRIPTION:She ROCKS The Triad held its first annual fundraiser at Summerfield Farms in Greensboro on September 28\, 2018. The evening included dinner\, drinks and live music catered by 1618 on location. Approximately 265 people attended and the group cleared $75\,000 for ovarian cancer research and local support. \n[vc_row][vc_column][vc_masonry_media_grid element_width=”3″ initial_loading_animation=”fadeIn” grid_id=”vc_gid:1542299240484-1a03cc0c-39c9-0″ include=”3005\,3006\,3007\,3008\,3009\,3010\,3011\,3012\,3013\,3014\,3015\,3016\,3017\,3018\,3019\,3020\,3021\,3022\,3023\,3024\,3025\,3026\,3027\,3028\,3029\,3030\,3031\,3032″][/vc_column][/vc_row] \nDinner VenueSummerfield Farms[vc_masonry_media_grid element_width=”3″ initial_loading_animation=”fadeIn” grid_id=”vc_gid:1543836974358-5a7bd0cf-645b-5″ include=”3456\,3457\,3458\,3459\,3460\,3461\,3462\,3463\,3464\,3465\,3466\,3467\,3468\,3469\,3470\,3471\,3472″]
URL:https://she-rocks.org/event/summerfield-farms-dinner/
LOCATION:Summerfield Farms\, 3203 Pleasant Ridge Road\, Summerfield\, NC\, 27358\, United States
CATEGORIES:Charity,Dinner,Fundraiser,Triad
ATTACH;FMTTYPE=image/jpeg:https://she-rocks.org/wp-content/uploads/2016/10/DSC_7251-summerfield-farm-barn-web.jpg
ORGANIZER;CN="Marie Wood":MAILTO:Triad@she-rocks.org
END:VEVENT
END:VCALENDAR